BEGIN:VCALENDAR
VERSION:2.0
PRODID:-//The Demand Project - ECPv6.15.20//NONSGML v1.0//EN
CALSCALE:GREGORIAN
METHOD:PUBLISH
X-WR-CALNAME:The Demand Project
X-ORIGINAL-URL:https://thedemandproject.org
X-WR-CALDESC:Events for The Demand Project
REFRESH-INTERVAL;VALUE=DURATION:PT1H
X-Robots-Tag:noindex
X-PUBLISHED-TTL:PT1H
BEGIN:VTIMEZONE
TZID:UTC
BEGIN:STANDARD
TZOFFSETFROM:+0000
TZOFFSETTO:+0000
TZNAME:UTC
DTSTART:20220101T000000
END:STANDARD
END:VTIMEZONE
BEGIN:VEVENT
DTSTART;TZID=UTC:20230828T070000
DTEND;TZID=UTC:20230828T150000
DTSTAMP:20260423T143326
CREATED:20230622T125827Z
LAST-MODIFIED:20230622T130616Z
UID:532-1693206000-1693234800@thedemandproject.org
SUMMARY:10th Annual Drive Out The Demand Golf Tournament
DESCRIPTION:We invite you to join us at the exclusive Golf Club of Oklahoma for a 4 person team scramble to help Drive Out The Demand. The Demand Project exists to eradicate human trafficking\, online enticement\, child sexual abuse material\, and the commercial sexual exploitation of children. This fundraiser is one way you can help us in our mission. \n\n\n\n\nThe Golf Club of Oklahoma \n\n\n\nGolf as It Should Be \n\n\n\n\n“The golf course has an incredibly versatile experience for golfers. Tremendously challenging for the accomplished player while affording the recreational player the opportunity to socialize and enjoy the tranquility of the property.” – Brian R.\, Member since 2018 \n\n\n\nThe Golf Club of Oklahoma was designed for golfers who wanted to escape the hustle and bustle of the city to experience golf as it should be. Whether you are a skilled golfer\, a beginning golfer\, or a future golfer\, you can certainly appreciate the unique setting surrounded by the beauty of nature and untarnished by development. \n\n\n\nWorld-class golf & private club amenities \n\n\n\n$250 / individual \n\n\n\n$1\,000 / team \n\n\n\nSponsorships Available! \n\n\n\n\n\n\n\n\nLEARN MORE & REGISTER
URL:https://thedemandproject.org/event/11th-annual-drive-out-the-demand-golf-tournament/
LOCATION:The Golf Club of Oklahoma\, 20400 E 141st St S\, Broken Arrow\, Oklahoma\, 74014
ATTACH;FMTTYPE=image/jpeg:https://thedemandproject.org/wp-content/uploads/2023/06/GolfTournament.jpg
END:VEVENT
END:VCALENDAR