BEGIN:VCALENDAR
VERSION:2.0
PRODID:-//The Demand Project - ECPv6.15.20//NONSGML v1.0//EN
CALSCALE:GREGORIAN
METHOD:PUBLISH
X-ORIGINAL-URL:https://thedemandproject.org
X-WR-CALDESC:Events for The Demand Project
REFRESH-INTERVAL;VALUE=DURATION:PT1H
X-Robots-Tag:noindex
X-PUBLISHED-TTL:PT1H
BEGIN:VTIMEZONE
TZID:UTC
BEGIN:STANDARD
TZOFFSETFROM:+0000
TZOFFSETTO:+0000
TZNAME:UTC
DTSTART:20230101T000000
END:STANDARD
END:VTIMEZONE
BEGIN:VEVENT
DTSTART;TZID=UTC:20240111T080000
DTEND;TZID=UTC:20240112T160000
DTSTAMP:20260423T080234
CREATED:20230921T153550Z
LAST-MODIFIED:20231031T165027Z
UID:581-1704960000-1705075200@thedemandproject.org
SUMMARY:7th Annual Beyond Awareness Educational Summit
DESCRIPTION:Registration Coming Soon\n\n\n\n\n\n\n\nThe 7th Annual Beyond Awareness Educational Summit plays an important role in the education and empowerment of individuals in Oklahoma to move from beyond awareness to action. In honor of National Human Trafficking Awareness Day\, this two-day Educational Summit will take place January 11-12\, in Tulsa\, Oklahoma at the Tulsa Tech Lemley Memorial Campus. Through a wide range of presentations\, the Summit will provide key insights into how to better protect children and stop predators from hurting the most vulnerable in our communities. The Summit will offer CE credits for law enforcement\, nurses\, social workers\, licensed private counselors\, and attorneys. Brought to you by The Demand Project\, Tulsa Tech and Rotary Club of Tulsa. \n\n\n\nWe also ask that you consider being a sponsor of this impactful event. We need partners like you. It is through forging strong partnerships that our mission is achievable. Our strategy is fighting these crimes through the Prevention of victimization through awareness and education; the Protection of victims/survivors by providing access to quality attorneys\, restorative justice\, and pursuing civil litigation; to assist law enforcement with the Recovery of victims by providing Victim Advocate Support Teams; and the Restoration of survivors by empowering them to choose their own Journey to Freedom through the non-residential and residential Journey to Freedom Program. \n\n\n\n\n\n\nREGISTER HERE\n\n\n\nBECOME A SPONSOR OR EXHIBITOR\n\n\n\n\n\n\n\n\n\n\n\n\n\nREGISTER HERE\n\n\n\nBECOME A SPONSOR OR EXHIBITOR
URL:https://thedemandproject.org/event/7th-annual-beyond-awareness-educational-summit/
LOCATION:Tulsa Tech Lemley Campus\, 3420 South Memorial Drive\, Tulsa\, Oklahoma\, 74145
ORGANIZER;CN="For more information":MAILTO:summit@thedemandproject.org
END:VEVENT
END:VCALENDAR