BEGIN:VCALENDAR
VERSION:2.0
PRODID:-//The Demand Project - ECPv6.15.20//NONSGML v1.0//EN
CALSCALE:GREGORIAN
METHOD:PUBLISH
X-WR-CALNAME:The Demand Project
X-ORIGINAL-URL:https://thedemandproject.org
X-WR-CALDESC:Events for The Demand Project
REFRESH-INTERVAL;VALUE=DURATION:PT1H
X-Robots-Tag:noindex
X-PUBLISHED-TTL:PT1H
BEGIN:VTIMEZONE
TZID:UTC
BEGIN:STANDARD
TZOFFSETFROM:+0000
TZOFFSETTO:+0000
TZNAME:UTC
DTSTART:20230101T000000
END:STANDARD
END:VTIMEZONE
BEGIN:VEVENT
DTSTART;TZID=UTC:20240826T073000
DTEND;TZID=UTC:20240826T150000
DTSTAMP:20260423T052045
CREATED:20240426T170009Z
LAST-MODIFIED:20240426T170012Z
UID:714-1724657400-1724684400@thedemandproject.org
SUMMARY:11th Annual Drive Out The Demand Golf Tournament
DESCRIPTION:Join us for a remarkable day of golf at one of Oklahoma’s premier golf destinations\, all while contributing to a vital cause. Each year\, we gather at The Golf Club of Oklahoma\, nestled in the breathtaking landscape of Broken Arrow\, to support The Demand Project’s (TDP) crucial mission to eradicate human trafficking. \n\n\n\nSponsorships and Team Purchases Available
URL:https://thedemandproject.org/event/11th-annual-drive-out-the-demand-golf-tournament-2/
LOCATION:The Golf Club of Oklahoma\, 20400 E 141st St S\, Broken Arrow\, Oklahoma\, 74014
ATTACH;FMTTYPE=image/png:https://thedemandproject.org/wp-content/uploads/2024/04/11th-Annual-Golf-Tournament-Save-the-Date.png
END:VEVENT
BEGIN:VEVENT
DTSTART;TZID=UTC:20240826T100000
DTEND;TZID=UTC:20240826T130000
DTSTAMP:20260423T052045
CREATED:20240426T165225Z
LAST-MODIFIED:20240426T165338Z
UID:712-1724666400-1724677200@thedemandproject.org
SUMMARY:4th Annual Women's High Tee Brunch
DESCRIPTION:This one-of-a-kind Women Only event is tailored specifically for women who support The Demand Project\, like to get dressed up\, and love to shop! On Monday\, August 26th you are invited to the exclusive Golf Club of Oklahoma clubhouse to Shop-For-A-Cause with unique vendors who will be giving 20% of all proceeds made back to TDP. We will have a beautiful brunch while hearing from anti-trafficking advocates who will empower and equip each person in the fight to end trafficking. We believe that together we can make a difference in our communities! \n\n\n\nSponsorships Available
URL:https://thedemandproject.org/event/4th-annual-womens-high-tee-brunch/
LOCATION:The Golf Club of Oklahoma\, 20400 E 141st St S\, Broken Arrow\, Oklahoma\, 74014
ATTACH;FMTTYPE=image/png:https://thedemandproject.org/wp-content/uploads/2024/04/Square-Social-Graphic-1.png
END:VEVENT
END:VCALENDAR