BEGIN:VCALENDAR
VERSION:2.0
PRODID:-//The Demand Project - ECPv6.15.20//NONSGML v1.0//EN
CALSCALE:GREGORIAN
METHOD:PUBLISH
X-ORIGINAL-URL:https://thedemandproject.org
X-WR-CALDESC:Events for The Demand Project
REFRESH-INTERVAL;VALUE=DURATION:PT1H
X-Robots-Tag:noindex
X-PUBLISHED-TTL:PT1H
BEGIN:VTIMEZONE
TZID:UTC
BEGIN:STANDARD
TZOFFSETFROM:+0000
TZOFFSETTO:+0000
TZNAME:UTC
DTSTART:20240101T000000
END:STANDARD
END:VTIMEZONE
BEGIN:VEVENT
DTSTART;TZID=UTC:20250516T080000
DTEND;TZID=UTC:20250517T150000
DTSTAMP:20260421T110813
CREATED:20250428T201733Z
LAST-MODIFIED:20250428T202201Z
UID:1089-1747382400-1747494000@thedemandproject.org
SUMMARY:Community Garage Sale
DESCRIPTION:Come shop for a cause! Join us at our Community Garage Sale where every purchase directly supports The Demand Project’s mission to protect children from human trafficking\, online enticement\, and sexual exploitation. \n\n\n\n2 DAYS – FRIDAY & SATURDAY 8 AM – 3 PM \n\n\n\n\n\n\n\nYou’ll find a huge variety of items — furniture\, home decor\, light fixtures\, household goods\, and more — all available at great prices to support an even greater cause! \n\n\n\nWant to get involved?We’re looking for volunteers to help with set-up on May 15 and assist during the sale on May 16–17. Volunteers get early access to the treasures! \n\n\n\n👉 Sign up to volunteer here: https://www.signupgenius.com/go/10C0C49ADAC2FA4FBCE9-56561736-tdpgarage#/ \n\n\n\nDon’t miss this opportunity to shop\, give back\, and make a difference in the lives of vulnerable children!
URL:https://thedemandproject.org/event/community-garage-sale/
LOCATION:HomeChurch\, 720 W. New Orleans St.\, Broken Arrow\, Oklahoma\, 74011
ATTACH;FMTTYPE=image/png:https://thedemandproject.org/wp-content/uploads/2025/04/Orange-Bold-Illustrative-Flea-Market-Poster.png
END:VEVENT
END:VCALENDAR