BEGIN:VCALENDAR
VERSION:2.0
PRODID:-//The Demand Project - ECPv6.15.20//NONSGML v1.0//EN
CALSCALE:GREGORIAN
METHOD:PUBLISH
X-WR-CALNAME:The Demand Project
X-ORIGINAL-URL:https://thedemandproject.org
X-WR-CALDESC:Events for The Demand Project
REFRESH-INTERVAL;VALUE=DURATION:PT1H
X-Robots-Tag:noindex
X-PUBLISHED-TTL:PT1H
BEGIN:VTIMEZONE
TZID:UTC
BEGIN:STANDARD
TZOFFSETFROM:+0000
TZOFFSETTO:+0000
TZNAME:UTC
DTSTART:20250101T000000
END:STANDARD
END:VTIMEZONE
BEGIN:VEVENT
DTSTART;TZID=UTC:20261004T180000
DTEND;TZID=UTC:20261004T210000
DTSTAMP:20260420T141815
CREATED:20251215T230019Z
LAST-MODIFIED:20251215T230025Z
UID:1141-1791136800-1791147600@thedemandproject.org
SUMMARY:Pickleball Party - Weeklong Fitness Challenge Kick-Off
DESCRIPTION:Court to Community: Where Your Game Fuels Freedom \n\n\n\nJoin The Demand Project for our first-ever Pickleball Party at ACE Pickleball Club in Broken Arrow\, Oklahoma – a high-energy\, family-friendly event bringing our community together for fun\, connection\, and purpose. \n\n\n\nThis event truly has something for everyone: \n\n\n\n\nTournament play for intermediate and advanced players\n\n\n\nLearn-to-play courts and beginner open play for those new to pickleball\n\n\n\nA Kid Zone and spectator area for family and friends\n\n\n\nFood\, fun\, and community throughout the day\n\n\n\n\nWhether you’re competing on the court or cheering from the sidelines\, your participation supports The Demand Project and its mission to fight and end child trafficking. Every rally helps fuel freedom and turn community into impact. \n\n\n\nCome play with purpose—because your game can make a difference. \n\n\n\nTicket Information \n\n\n\nSee event website for ticket prices and sponsorship opportunities. Ticket prices vary. All sales are final (no refunds). The Demand Project reserves the right to refuse participation. Tickets may be transferred to another owner by contacting events@thedemandproject.org. \n\n\n\nBe part of something new\, exciting\, and impactful. Every serve\, swing\, and rally raises awareness and fuels The Demand Project’s mission of protecting children and raising hope for survivors. \n\n\n\nDon’t miss this chance to play for freedom—join the movement!
URL:https://thedemandproject.org/event/pickleball-party/
LOCATION:ACE Pickleball Club\, 2326 E. Kenosha St.\, Broken Arrow\, Oklahoma\, 74012
ATTACH;FMTTYPE=image/png:https://thedemandproject.org/wp-content/uploads/2025/10/Social-Media-POST.png
END:VEVENT
BEGIN:VEVENT
DTSTART;TZID=UTC:20261112T080000
DTEND;TZID=UTC:20261113T150000
DTSTAMP:20260420T141815
CREATED:20260410T204256Z
LAST-MODIFIED:20260410T204812Z
UID:1256-1794470400-1794582000@thedemandproject.org
SUMMARY:9th Annual Beyond Awareness Educational Summit 2026
DESCRIPTION:Join us November 12th & 13th at the Tulsa Technology Center – Owasso Conference Center for The Demand Project’s 9th Annual Beyond Awareness Educational Summit. \n\n\n\nThis two-day event equips attendees to move beyond awareness and take action in the fight against child trafficking—while offering continuing education (CE) opportunities for law enforcement\, mental health professionals\, educators\, service providers\, faith leaders\, and attorneys. \n\n\n\nOpen to the public. Breakfast and lunch provided. Sponsorships and exhibitor tables available. \n\n\n\nTicket Information \n\n\n\nSee event website for ticket pricing and sponsorship opportunities. Ticket prices vary\, and all sales are final (no refunds). Tickets may be transferred by contacting events@thedemandproject.org. The Demand Project reserves the right to refuse participation. \n\n\n\nBe part of something impactful. Together\, we are raising awareness\, equipping our community\, and fueling the mission of protecting children and restoring hope for survivors. \n\n\n\nDon’t miss your chance to be part of the movement.
URL:https://thedemandproject.org/event/9th-annual-beyond-awareness-educational-summit-2026-2/
LOCATION:Tulsa Technology Owasso Conference Center\, 10800 N 137th E Ave\, Owasso\, Oklahoma\, 74055
ATTACH;FMTTYPE=image/png:https://thedemandproject.org/wp-content/uploads/2026/04/Beyond-Awareness-Educational-Summit-scaled.png
END:VEVENT
END:VCALENDAR